BEGIN:VCALENDAR
VERSION:2.0
PRODID:-//Contratero//ES
CALSCALE:GREGORIAN
METHOD:PUBLISH
BEGIN:VEVENT
UID:T-SU 20.4/022020 4.14@contratero.es
DTSTAMP:20260423T152619Z
DTSTART:20240930T235959
DTEND:20241001T005959
SUMMARY:Cierre: Suministro de Dispositivos de Impresión
DESCRIPTION:Suministro de Dispositivos de Impresión\\n\\nOrganismo: Gerencia de Transportes Interurbanos de Tenerife S.A.U.\\n\\nVer en Contratero: https://contratero.es/contracts/T-SU 20.4/022020 4.14
URL:https://contratero.es/contracts/T-SU 20.4/022020 4.14
STATUS:CONFIRMED
BEGIN:VALARM
TRIGGER:-P1D
ACTION:DISPLAY
DESCRIPTION:Recordatorio: Suministro de Dispositivos de 
END:VALARM
END:VEVENT
END:VCALENDAR